BEGIN:VCALENDAR
VERSION:2.0
PRODID:-//Tukios.com/
BEGIN:VEVENT
UID:8ab85f68-4f12-4803-a8d1-446ea11f7584@www.dennisgeorgefunerals.com
DTSTAMP:20260421T085117Z
DTSTART:20260502T170000Z
DTEND:20260502T180000Z
SUMMARY:Celebration of Life
DESCRIPTION:
URL:https://www.dennisgeorgefunerals.com/obituaries/charles-bob-greer
LOCATION:IOK Gravelrama 9580 Valley Junction Rd.  Cleves OH 45002
GEO:39.1700889;-84.7653718
END:VEVENT
END:VCALENDAR