BEGIN:VCALENDAR
VERSION:2.0
PRODID:-//Tukios.com/
BEGIN:VEVENT
UID:0f6ebeef-6585-42c5-83bb-bf24c8bbe6cb@www.dennisgeorgefunerals.com
DTSTAMP:20260424T082320Z
DTSTART:20260502T140000Z
DTEND:20260502T150000Z
SUMMARY:Mass
DESCRIPTION:
URL:https://www.dennisgeorgefunerals.com/obituaries/alice-barbara-sue-sommer
LOCATION: 25 E Harrison Ave  North Bend OH 45052
GEO:39.1527481;-84.7462951
END:VEVENT
END:VCALENDAR