BEGIN:VCALENDAR
VERSION:2.0
PRODID:-//Tukios.com/
BEGIN:VEVENT
UID:82425f03-181b-4b32-9b31-824bfa9ea447@www.dennisgeorgefunerals.com
DTSTAMP:20260424T082901Z
DTSTART:20260502T130000Z
DTEND:20260502T140000Z
SUMMARY:Visitation
DESCRIPTION:
URL:https://www.dennisgeorgefunerals.com/obituaries/alice-barbara-sue-sommer
LOCATION: 25 E Harrison Ave  North Bend OH 45052
GEO:39.1527481;-84.7462951
END:VEVENT
END:VCALENDAR